BEGIN:VCALENDAR
VERSION:2.0
PRODID:-//Gemüse - ECPv6.9.0//NONSGML v1.0//EN
CALSCALE:GREGORIAN
METHOD:PUBLISH
X-WR-CALNAME:Gemüse
X-ORIGINAL-URL:https://selbsternten.at
X-WR-CALDESC:Veranstaltungen für Gemüse
REFRESH-INTERVAL;VALUE=DURATION:PT1H
X-Robots-Tag:noindex
X-PUBLISHED-TTL:PT1H
BEGIN:VTIMEZONE
TZID:Europe/Paris
BEGIN:DAYLIGHT
TZOFFSETFROM:+0100
TZOFFSETTO:+0200
TZNAME:CEST
DTSTART:20210328T010000
END:DAYLIGHT
BEGIN:STANDARD
TZOFFSETFROM:+0200
TZOFFSETTO:+0100
TZNAME:CET
DTSTART:20211031T010000
END:STANDARD
END:VTIMEZONE
BEGIN:VEVENT
DTSTART;TZID=Europe/Paris:20211011T080000
DTEND;TZID=Europe/Paris:20211017T170000
DTSTAMP:20260421T104408
CREATED:20211004T113426Z
LAST-MODIFIED:20211004T113426Z
UID:3324-1633939200-1634490000@selbsternten.at
SUMMARY:Wintergemüse einlagern
DESCRIPTION:Die Tage werden kürzer\, die Abende kühler. Der Herbst ist bei uns angekommen\, jetzt kommt die Zeit Gemüse einzulagern.
URL:https://selbsternten.at/event/wintergemuse-einlagern/
CATEGORIES:Was gibt es wann?
ORGANIZER;CN="Franz":MAILTO:franz.mittmasser@hotmail.com
END:VEVENT
END:VCALENDAR