BEGIN:VCALENDAR
VERSION:2.0
PRODID:-//Gemüse - ECPv6.9.0//NONSGML v1.0//EN
CALSCALE:GREGORIAN
METHOD:PUBLISH
X-ORIGINAL-URL:https://selbsternten.at
X-WR-CALDESC:Veranstaltungen für Gemüse
REFRESH-INTERVAL;VALUE=DURATION:PT1H
X-Robots-Tag:noindex
X-PUBLISHED-TTL:PT1H
BEGIN:VTIMEZONE
TZID:Europe/Berlin
BEGIN:DAYLIGHT
TZOFFSETFROM:+0100
TZOFFSETTO:+0200
TZNAME:CEST
DTSTART:20220327T010000
END:DAYLIGHT
BEGIN:STANDARD
TZOFFSETFROM:+0200
TZOFFSETTO:+0100
TZNAME:CET
DTSTART:20221030T010000
END:STANDARD
END:VTIMEZONE
BEGIN:VEVENT
DTSTART;TZID=Europe/Berlin:20221029T133000
DTEND;TZID=Europe/Berlin:20221029T170000
DTSTAMP:20260420T191726
CREATED:20221031T192419Z
LAST-MODIFIED:20221031T192419Z
UID:3573-1667050200-1667062800@selbsternten.at
SUMMARY:Karoline Postlmayr
DESCRIPTION:Vortrag mit vielen Anregungzu mehr Selbstverantwortungmitten beim  Herbstgemüse\, welches auch selbst geerntet werden kann
URL:https://selbsternten.at/event/karoline-postlmayr/
END:VEVENT
END:VCALENDAR